BEGIN:VCALENDAR
VERSION:2.0
PRODID:-//DIGITAL FACTORY//EVENTS MAKER V1.6.14//EN
CALSCALE:GREGORIAN
BEGIN:VEVENT
DTEND:20240125T210000Z
UID:69e73ebe074da
DTSTAMP:20260421T090918Z
CATEGORIES:Themed
LOCATION:Etta Place Cidery &amp; Taproom 700 W. Main Street, Torrey, UT, 84732, US
DESCRIPTION:Join us at 7 pm every 4th Thursday in the Etta Place Cidery Taproom for taproom trivia! Gather your team and settle in for five rounds of puzzlement and merriment.
URL;VALUE=URI:https://www.ettaplacecider.com/events/event/trivia-night/
SUMMARY:Trivia Night
DTSTART:20240125T190000Z
END:VEVENT
END:VCALENDAR
