BEGIN:VCALENDAR
VERSION:2.0
PRODID:-//DIGITAL FACTORY//EVENTS MAKER V1.6.14//EN
CALSCALE:GREGORIAN
BEGIN:VEVENT
DTEND:20240201T210000Z
UID:69e73dc95fa18
DTSTAMP:20260421T090513Z
CATEGORIES:Themed
LOCATION:Etta Place Cidery &amp; Taproom 700 W. Main Street, Torrey, UT, 84732, US
DESCRIPTION:Some generous locals teach us to play this fun\, fast-paced dice game - tournament style!
URL;VALUE=URI:https://www.ettaplacecider.com/events/event/tournament-left-right-center/
SUMMARY:Tournament: Left Right Center
DTSTART:20240201T190000Z
END:VEVENT
END:VCALENDAR
