BEGIN:VCALENDAR
VERSION:2.0
PRODID:-//DIGITAL FACTORY//EVENTS MAKER V1.6.14//EN
CALSCALE:GREGORIAN
BEGIN:VEVENT
DTEND:20240209
UID:69e73fac68ef3
DTSTAMP:20260421T091316Z
CATEGORIES:Celebration
LOCATION:Etta Place Cidery &amp; Taproom 700 W. Main Street, Torrey, UT, 84732, US
DESCRIPTION:Our Stray Arrow Rosé cider has an enthusiastic set of fans who are eagerly awaiting this news: we are releasing the 2023 “vintage” on Friday February 9. We harvested enough fruit that we can double the per customer allotment to 2 bottles!!! $11.95 per bottle\, ABV 6.8%    But wait\, there’s more! We filled 2 kegs\, and we will put the Rosé on tap that very day to celebrate the release. We will actually have 3 rosé products on tap then: the Camp Cohab plum-flavored cider\, the Raspberry Hibiscus Session Mead and the Rosé.  That will be a fun flight while it lasts and a great way to celebrate Valentines with someone special.    And that’s not all folks!  We know not everyone can make it down to Torrey that weekend\, so Scion Cider Bar will also have a keg of Rosé going on tap on February 9.  Because we aren’t shipping full cases of the Rosé\, you can’t special order it through the DABS if you are in Utah. But\, if you are out-of-state and ordering through Vinoshipper\, it will be available on February 9\, again with a two bottle maximum for that product.
URL;VALUE=URI:https://www.ettaplacecider.com/events/event/rose-release-party/
SUMMARY:Rosé Cider Release Party
DTSTART:20240209
END:VEVENT
END:VCALENDAR
