BEGIN:VCALENDAR
VERSION:2.0
PRODID:-//DIGITAL FACTORY//EVENTS MAKER V1.6.14//EN
CALSCALE:GREGORIAN
BEGIN:VEVENT
DTEND:20240208T210000Z
UID:69e73c7b041b7
DTSTAMP:20260421T085939Z
CATEGORIES:Themed
LOCATION:Etta Place Cidery &amp; Taproom 700 W. Main Street, Torrey, UT, 84732, US
DESCRIPTION:We're trying something new tonight – Loteria! Come try your luck!
URL;VALUE=URI:https://www.ettaplacecider.com/events/event/loteria-mexican-bingo/
SUMMARY:Loteria - Mexican Bingo
DTSTART:20240208T190000Z
END:VEVENT
END:VCALENDAR
