BEGIN:VCALENDAR
VERSION:2.0
PRODID:-//DIGITAL FACTORY//EVENTS MAKER V1.6.14//EN
CALSCALE:GREGORIAN
BEGIN:VEVENT
DTEND:20240126T160000Z
UID:69e73d982c1e0
DTSTAMP:20260421T090424Z
CATEGORIES:Educational
LOCATION:Etta Place Cidery &amp; Taproom 700 W. Main Street, Torrey, UT, 84732, US
DESCRIPTION:Join us for a behind-the-scenes tour of the production space here in Torrey.
URL;VALUE=URI:https://www.ettaplacecider.com/events/event/cidery-tour/
SUMMARY:Cidery Tour
DTSTART:20240126T150000Z
END:VEVENT
END:VCALENDAR
